{"text_format":"1","workbook":"xlsx","n_sheets":4,"sheets":["入力フォーマット","グラフシート①","グラフシート②","グラフシート③"],"not_rendered":{"charts":3,"images":1,"macros":1,"external_links":0,"defined_names":4,"comments":0,"pivot_tables":0},"unopened":[],"bounds":{"document_bytes":16777216,"sheet_cells":100000,"rows_first":2000,"rows_last":500,"rows_between":2000,"halvings":0,"cell_chars":16384,"cell_head_chars":4096},"cells_cut":0,"cells_raw":0,"read":"whole","date_system":"1900"}

{"sheet":"入力フォーマット","index":0,"n_rows":92,"n_cols":14,"rows_kept":92,"cut":false,"hidden":false,"merged":[[34,0,35,0],[34,1,35,1],[32,0,33,0],[32,1,33,1],[30,0,31,0],[30,1,31,1],[28,0,29,0],[28,1,29,1],[26,0,27,0],[26,1,27,1],[24,0,25,0],[24,1,25,1],[22,0,23,0],[22,1,23,1],[20,0,21,0],[20,1,21,1],[18,0,19,0],[18,1,19,1],[16,0,17,0],[16,1,17,1],[14,0,15,0],[14,1,15,1],[12,0,13,0],[12,1,13,1],[7,2,7,4],[8,0,9,0],[8,1,9,1],[10,0,11,0],[10,1,11,1],[36,0,37,0],[36,1,37,1],[38,0,39,0],[38,1,39,1],[40,0,41,0],[40,1,41,1],[42,0,43,0],[42,1,43,1],[44,0,45,0],[44,1,45,1],[46,0,47,0],[46,1,47,1],[48,0,49,0],[48,1,49,1],[50,0,51,0],[50,1,51,1],[52,0,53,0],[52,1,53,1],[54,0,55,0],[54,1,55,1],[56,0,57,0],[56,1,57,1],[58,0,59,0],[58,1,59,1],[60,0,61,0],[60,1,61,1],[62,0,63,0],[62,1,63,1],[64,0,65,0],[64,1,65,1],[66,0,67,0],[66,1,67,1],[68,0,69,0],[68,1,69,1],[70,0,71,0],[70,1,71,1],[72,0,73,0],[72,1,73,1],[74,0,75,0],[74,1,75,1],[76,0,77,0],[76,1,77,1],[7,5,7,13],[7,0,7,1],[90,0,91,0],[90,1,91,1],[84,0,85,0],[84,1,85,1],[86,0,87,0],[86,1,87,1],[88,0,89,0],[88,1,89,1],[78,0,79,0],[78,1,79,1],[80,0,81,0],[80,1,81,1],[82,0,83,0],[82,1,83,1]]}
[]
["健康状態確認シート（学生入力用）"]
["学籍番号",null,"記入例：1100000",null,null,null,null,"体温は毎日測定しましょう"]
["クラス名列",null,"記入例：1EM1-100",null,null,null,null,null,null,"、具体的な症状のチェックは必須項目"]
["氏名",null,"※ 姓と名の間にスペースを入れる"]
["連絡先電話番号",null,"※ 携帯電話番号"]
[null,null,null,null,null,null,null,null,null,null,null,null,null,"※公認欠席の申請には、症状の出始めから回復後１週間までの記録が必要です"]
["日付",null,"体温",null,null,"具体的な症状（該当する項目にチェックしてください）"]
["①",null,"朝",null,"℃",null,false,null,false,null,false,null,false]
[null,null,"夕",null,"℃",null,false,null,false,"(",false,"aaaaaa",null,"）"]
["②",null,"朝",null,"℃",null,false,null,false,null,false,null,false]
[null,null,"夕",null,"℃",null,false,null,false,"(",false,null,null,"）"]
["③",null,"朝",null,"℃",null,false,null,false,null,false,null,false]
[null,null,"夕",null,"℃",null,false,null,false,"(",false,"aaaaaa",null,"）"]
["④",null,"朝",null,"℃",null,false,null,false,null,false,null,false]
[null,null,"夕",null,"℃",null,false,null,false,"(",false,null,null,"）"]
["⑤",null,"朝",null,"℃",null,false,null,false,null,false,null,false]
[null,null,"夕",null,"℃",null,false,null,false,"(",false,"aaaaaaaa",null,"）"]
["⑥",null,"朝",null,"℃",null,false,null,false,null,false,null,false]
[null,null,"夕",null,"℃",null,false,null,false,"(",false,null,null,"）"]
["⑦",null,"朝",null,"℃",null,false,null,false,null,false,null,false]
[null,null,"夕",null,"℃",null,false,null,false,"(",false,null,null,"）"]
["⑧",null,"朝",null,"℃",null,false,null,false,null,false,null,false]
[null,null,"夕",null,"℃",null,false,null,false,"(",false,null,null,"）"]
["⑨",null,"朝",null,"℃",null,false,null,false,null,false,null,false]
[null,null,"夕",null,"℃",null,false,null,false,"(",false,null,null,"）"]
["⑩",null,"朝",null,"℃",null,false,null,false,null,false,null,false]
[null,null,"夕",null,"℃",null,false,null,false,"(",false,null,null,"）"]
["⑪",null,"朝",null,"℃",null,false,null,false,null,false,null,false]
[null,null,"夕",null,"℃",null,false,null,false,"(",false,null,null,"）"]
["⑫",null,"朝",null,"℃",null,false,null,false,null,false,null,false]
[null,null,"夕",null,"℃",null,false,null,false,"(",false,null,null,"）"]
["⑬",null,"朝",null,"℃",null,false,null,false,null,false,null,false]
[null,null,"夕",null,"℃",null,false,null,false,"(",false,null,null,"）"]
["⑭",null,"朝",null,"℃",null,false,null,false,null,false,null,false]
[null,null,"夕",null,"℃",null,false,null,false,"(",false,null,null,"）"]
["⑮",null,"朝",null,"℃",null,false,null,false,null,false,null,false]
[null,null,"夕",null,"℃",null,false,null,false,"(",false,null,null,"）"]
["⑯",null,"朝",null,"℃",null,false,null,false,null,false,null,false]
[null,null,"夕",null,"℃",null,false,null,false,"(",false,null,null,"）"]
["⑰",null,"朝",null,"℃",null,false,null,false,null,false,null,false]
[null,null,"夕",null,"℃",null,false,null,false,"(",false,null,null,"）"]
["⑱",null,"朝",null,"℃",null,false,null,false,null,false,null,false]
[null,null,"夕",null,"℃",null,false,null,false,"(",false,null,null,"）"]
["⑲",null,"朝",null,"℃",null,false,null,false,null,false,null,false]
[null,null,"夕",null,"℃",null,false,null,false,"(",false,null,null,"）"]
["⑳",null,"朝",null,"℃",null,false,null,false,null,false,null,false]
[null,null,"夕",null,"℃",null,false,null,false,"(",false,null,null,"）"]
["㉑",null,"朝",null,"℃",null,false,null,false,null,false,null,false]
[null,null,"夕",null,"℃",null,false,null,false,"(",false,null,null,"）"]
["㉒",null,"朝",null,"℃",null,false,null,false,null,false,null,false]
[null,null,"夕",null,"℃",null,false,null,false,"(",false,null,null,"）"]
["㉓",null,"朝",null,"℃",null,false,null,false,null,false,null,false]
[null,null,"夕",null,"℃",null,false,null,false,"(",false,null,null,"）"]
["㉔",null,"朝",null,"℃",null,false,null,false,null,false,null,false]
[null,null,"夕",null,"℃",null,false,null,false,"(",false,null,null,"）"]
["㉕",null,"朝",null,"℃",null,false,null,false,null,false,null,false]
[null,null,"夕",null,"℃",null,false,null,false,"(",false,null,null,"）"]
["㉖",null,"朝",null,"℃",null,false,null,false,null,false,null,false]
[null,null,"夕",null,"℃",null,false,null,false,"(",false,null,null,"）"]
["㉗",null,"朝",null,"℃",null,false,null,false,null,false,null,false]
[null,null,"夕",null,"℃",null,false,null,false,"(",false,null,null,"）"]
["㉘",null,"朝",null,"℃",null,false,null,false,null,false,null,false]
[null,null,"夕",null,"℃",null,false,null,false,"(",false,null,null,"）"]
["㉙",null,"朝",null,"℃",null,false,null,false,null,false,null,false]
[null,null,"夕",null,"℃",null,false,null,false,"(",false,null,null,"）"]
["㉚",null,"朝",null,"℃",null,false,null,false,null,false,null,false]
[null,null,"夕",null,"℃",null,false,null,false,"(",false,null,null,"）"]
["㉛",null,"朝",null,"℃",null,false,null,false,null,false,null,false]
[null,null,"夕",null,"℃",null,false,null,false,"(",false,null,null,"）"]
["㉜",null,"朝",null,"℃",null,false,null,false,null,false,null,false]
[null,null,"夕",null,"℃",null,false,null,false,"(",false,null,null,"）"]
["㉝",null,"朝",null,"℃",null,false,null,false,null,false,null,false]
[null,null,"夕",null,"℃",null,false,null,false,"(",false,null,null,"）"]
["㉞",null,"朝",null,"℃",null,false,null,false,null,false,null,false]
[null,null,"夕",null,"℃",null,false,null,false,"(",false,null,null,"）"]
["㉟",null,"朝",null,"℃",null,false,null,false,null,false,null,false]
[null,null,"夕",null,"℃",null,false,null,false,"(",false,null,null,"）"]
["㊱",null,"朝",null,"℃",null,false,null,false,null,false,null,false]
[null,null,"夕",null,"℃",null,false,null,false,"(",false,null,null,"）"]
["㊲",null,"朝",null,"℃",null,false,null,false,null,false,null,false]
[null,null,"夕",null,"℃",null,false,null,false,"(",false,null,null,"）"]
["㊳",null,"朝",null,"℃",null,false,null,false,null,false,null,false]
[null,null,"夕",null,"℃",null,false,null,false,"(",false,null,null,"）"]
["㊴",null,"朝",null,"℃",null,false,null,false,null,false,null,false]
[null,null,"夕",null,"℃",null,false,null,false,"(",false,null,null,"）"]
["㊵",null,"朝",null,"℃",null,false,null,false,null,false,null,false]
[null,null,"夕",null,"℃",null,false,null,false,"(",false,null,null,"）"]
["㊶",null,"朝",null,"℃",null,false,null,false,null,false,null,false]
[null,null,"夕",null,"℃",null,false,null,false,"(",false,null,null,"）"]
["㊷",null,"朝",null,"℃",null,false,null,false,null,false,null,false]
[null,null,"夕",null,"℃",null,false,null,false,"(",false,null,null,"）"]

{"sheet":"グラフシート①","index":1,"n_rows":48,"n_cols":44,"rows_kept":48,"cut":false,"hidden":false,"merged":[[1,42,1,43],[36,38,37,40],[36,41,37,43],[36,2,37,4],[36,5,37,7],[36,8,37,10],[36,11,37,13],[36,14,37,16],[36,17,37,19],[36,20,37,22],[36,23,37,25],[36,26,37,28],[36,29,37,31],[36,32,37,34],[36,35,37,37],[38,29,38,31],[38,2,38,4],[38,5,38,7],[38,8,38,10],[38,11,38,13],[38,14,38,16],[38,32,38,34],[38,35,38,37],[38,38,38,40],[38,41,38,43],[1,2,1,3],[1,8,1,9],[1,14,1,15],[1,23,1,26],[1,4,1,7],[1,10,1,13],[1,16,1,22],[1,27,1,35],[38,17,38,19],[38,20,38,22],[38,23,38,25],[38,26,38,28],[39,2,39,4],[39,5,39,7],[39,8,39,10],[39,11,39,13],[39,14,39,16],[39,32,39,34],[39,35,39,37],[39,38,39,40],[39,41,39,43],[39,17,39,19],[39,20,39,22],[39,23,39,25],[39,26,39,28],[39,29,39,31]]}
[null,null,"健康状態確認シート"]
[null,null,"学籍番号",null,{"$f":"IF(入力フォーマット!B3=\"\",\"-\",入力フォーマット!B3)","v":"-"},null,null,null,"クラス番号",null,{"$f":"IF(入力フォーマット!B4=\"\",\"-\",入力フォーマット!B4)","v":"-"},null,null,null,"氏名",null,{"$f":"IF(入力フォーマット!B5=\"\",\"-\",入力フォーマット!B5)","v":"-"},null,null,null,null,null,null,"連絡先電話番号",null,null,null,{"$f":"IF(入力フォーマット!B6=\"\",\"-\",入力フォーマット!B6)","v":"-"},null,null,null,null,null,null,null,null,null,null,null,null,null,null,"NO.1"]
[]
[]
[]
[]
[]
[]
[]
[]
[]
[]
[]
[]
[]
[]
[]
[]
[]
[]
[]
[]
[]
[]
[]
[]
[]
[]
[]
[]
[]
[]
[]
[]
[]
[]
[null,null,"①",null,null,"②",null,null,"③",null,null,"④",null,null,"⑤",null,null,"⑥",null,null,"⑦",null,null,"⑧",null,null,"⑨",null,null,"⑩",null,null,"⑪",null,null,"⑫",null,null,"⑬",null,null,"⑭"]
[]
[null,null,{"$f":"IF(入力フォーマット!$B$9,入力フォーマット!$B$9,\"-\")","v":"-"},{"$f":"IF(入力フォーマット!L1=\"\",\"-\",入力フォーマット!$L$10)","v":"-"},{"$f":"IF(入力フォーマット!M1=\"\",\"-\",入力フォーマット!$L$10)","v":"-"},{"$f":"IF(入力フォーマット!$B$11,入力フォーマット!$B$11,\"-\")","v":"-"},{"$f":"IF(入力フォーマット!O1=\"\",\"-\",入力フォーマット!$L$10)","v":"-"},{"$f":"IF(入力フォーマット!P1=\"\",\"-\",入力フォーマット!$L$10)","v":"-"},{"$f":"IF(入力フォーマット!$B$13,入力フォーマット!$B$13,\"-\")","v":"-"},{"$f":"IF(入力フォーマット!R1=\"\",\"-\",入力フォーマット!$L$10)","v":"-"},{"$f":"IF(入力フォーマット!S1=\"\",\"-\",入力フォーマット!$L$10)","v":"-"},{"$f":"IF(入力フォーマット!$B$15,入力フォーマット!$B$15,\"-\")","v":"-"},{"$f":"IF(入力フォーマット!U1=\"\",\"-\",入力フォーマット!$L$10)","v":"-"},{"$f":"IF(入力フォーマット!V1=\"\",\"-\",入力フォーマット!$L$10)","v":"-"},{"$f":"IF(入力フォーマット!$B$17,入力フォーマット!$B$17,\"-\")","v":"-"},{"$f":"IF(入力フォーマット!X1=\"\",\"-\",入力フォーマット!$L$10)","v":"-"},{"$f":"IF(入力フォーマット!Y1=\"\",\"-\",入力フォーマット!$L$10)","v":"-"},{"$f":"IF(入力フォーマット!$B$19,入力フォーマット!$B$19,\"-\")","v":"-"},{"$f":"IF(入力フォーマット!AA1=\"\",\"-\",入力フォーマット!$L$10)","v":"-"},{"$f":"IF(入力フォーマット!AB1=\"\",\"-\",入力フォーマット!$L$10)","v":"-"},{"$f":"IF(入力フォーマット!$B$21,入力フォーマット!$B$21,\"-\")","v":"-"},{"$f":"IF(入力フォーマット!AD1=\"\",\"-\",入力フォーマット!$L$10)","v":"-"},{"$f":"IF(入力フォーマット!AE1=\"\",\"-\",入力フォーマット!$L$10)","v":"-"},{"$f":"IF(入力フォーマット!$B$23,入力フォーマット!$B$23,\"-\")","v":"-"},{"$f":"IF(入力フォーマット!AG1=\"\",\"-\",入力フォーマット!$L$10)","v":"-"},{"$f":"IF(入力フォーマット!AH1=\"\",\"-\",入力フォーマット!$L$10)","v":"-"},{"$f":"IF(入力フォーマット!$B$25,入力フォーマット!$B$25,\"-\")","v":"-"},{"$f":"IF(入力フォーマット!AJ1=\"\",\"-\",入力フォーマット!$L$10)","v":"-"},{"$f":"IF(入力フォーマット!AK1=\"\",\"-\",入力フォーマット!$L$10)","v":"-"},{"$f":"IF(入力フォーマット!$B$27,入力フォーマット!$B$27,\"-\")","v":"-"},{"$f":"IF(入力フォーマット!AM1=\"\",\"-\",入力フォーマット!$L$10)","v":"-"},{"$f":"IF(入力フォーマット!AN1=\"\",\"-\",入力フォーマット!$L$10)","v":"-"},{"$f":"IF(入力フォーマット!$B$29,入力フォーマット!$B$29,\"-\")","v":"-"},{"$f":"IF(入力フォーマット!AP1=\"\",\"-\",入力フォーマット!$L$10)","v":"-"},{"$f":"IF(入力フォーマット!AQ1=\"\",\"-\",入力フォーマット!$L$10)","v":"-"},{"$f":"IF(入力フォーマット!$B$31,入力フォーマット!$B$31,\"-\")","v":"-"},{"$f":"IF(入力フォーマット!AS1=\"\",\"-\",入力フォーマット!$L$10)","v":"-"},{"$f":"IF(入力フォーマット!AT1=\"\",\"-\",入力フォーマット!$L$10)","v":"-"},{"$f":"IF(入力フォーマット!$B$33,入力フォーマット!$B$33,\"-\")","v":"-"},{"$f":"IF(入力フォーマット!AV1=\"\",\"-\",入力フォーマット!$L$10)","v":"-"},{"$f":"IF(入力フォーマット!AW1=\"\",\"-\",入力フォーマット!$L$10)","v":"-"},{"$f":"IF(入力フォーマット!$B$35,入力フォーマット!$B$35,\"-\")","v":"-"},{"$f":"IF(入力フォーマット!AY1=\"\",\"-\",入力フォーマット!$L$10)","v":"-"},{"$f":"IF(入力フォーマット!AZ1=\"\",\"-\",入力フォーマット!$L$10)","v":"-"}]
[null,null,{"$f":"IF(COUNTIF(C$41:C$47,\"✓\")>=1,\"症状あり\",\"症状なし\")","v":"症状なし"},null,null,{"$f":"IF(COUNTIF(F$41:F$47,\"✓\")>=1,\"症状あり\",\"症状なし\")","v":"症状なし"},null,null,{"$f":"IF(COUNTIF(I$41:I$47,\"✓\")>=1,\"症状あり\",\"症状なし\")","v":"症状なし"},null,null,{"$f":"IF(COUNTIF(L$41:L$47,\"✓\")>=1,\"症状あり\",\"症状なし\")","v":"症状なし"},null,null,{"$f":"IF(COUNTIF(O$41:O$47,\"✓\")>=1,\"症状あり\",\"症状なし\")","v":"症状なし"},null,null,{"$f":"IF(COUNTIF(R$41:R$47,\"✓\")>=1,\"症状あり\",\"症状なし\")","v":"症状なし"},null,null,{"$f":"IF(COUNTIF(U$41:U$47,\"✓\")>=1,\"症状あり\",\"症状なし\")","v":"症状なし"},null,null,{"$f":"IF(COUNTIF(X$41:X$47,\"✓\")>=1,\"症状あり\",\"症状なし\")","v":"症状なし"},null,null,{"$f":"IF(COUNTIF(AA$41:AA$47,\"✓\")>=1,\"症状あり\",\"症状なし\")","v":"症状なし"},null,null,{"$f":"IF(COUNTIF(AD$41:AD$47,\"✓\")>=1,\"症状あり\",\"症状なし\")","v":"症状なし"},null,null,{"$f":"IF(COUNTIF(AG$41:AG$47,\"✓\")>=1,\"症状あり\",\"症状なし\")","v":"症状なし"},null,null,{"$f":"IF(COUNTIF(AJ$41:AJ$47,\"✓\")>=1,\"症状あり\",\"症状なし\")","v":"症状なし"},null,null,{"$f":"IF(COUNTIF(AM$41:AM$47,\"✓\")>=1,\"症状あり\",\"症状なし\")","v":"症状なし"},null,null,{"$f":"IF(COUNTIF(AP$41:AP$47,\"✓\")>=1,\"症状あり\",\"症状なし\")","v":"症状なし"}]
[null,null,{"$f":"IF(入力フォーマット!$G$9,\"✓\",\"-\")","v":"-"},"咳",null,{"$f":"IF(入力フォーマット!$G$11,\"✓\",\"-\")","v":"-"},"咳",null,{"$f":"IF(入力フォーマット!$G$13,\"✓\",\"-\")","v":"-"},"咳",null,{"$f":"IF(入力フォーマット!$G$15,\"✓\",\"-\")","v":"-"},"咳",null,{"$f":"IF(入力フォーマット!$G$17,\"✓\",\"-\")","v":"-"},"咳",null,{"$f":"IF(入力フォーマット!$G$19,\"✓\",\"-\")","v":"-"},"咳",null,{"$f":"IF(入力フォーマット!$G$21,\"✓\",\"-\")","v":"-"},"咳",null,{"$f":"IF(入力フォーマット!$G$23,\"✓\",\"-\")","v":"-"},"咳",null,{"$f":"IF(入力フォーマット!$G$25,\"✓\",\"-\")","v":"-"},"咳",null,{"$f":"IF(入力フォーマット!$G$27,\"✓\",\"-\")","v":"-"},"咳",null,{"$f":"IF(入力フォーマット!$G$29,\"✓\",\"-\")","v":"-"},"咳",null,{"$f":"IF(入力フォーマット!$G$31,\"✓\",\"-\")","v":"-"},"咳",null,{"$f":"IF(入力フォーマット!$G$33,\"✓\",\"-\")","v":"-"},"咳",null,{"$f":"IF(入力フォーマット!$G$35,\"✓\",\"-\")","v":"-"},"咳"]
[null,null,{"$f":"IF(入力フォーマット!$I$9,\"✓\",\"-\")","v":"-"},"喉痛",null,{"$f":"IF(入力フォーマット!$I$11,\"✓\",\"-\")","v":"-"},"喉痛",null,{"$f":"IF(入力フォーマット!$I$13,\"✓\",\"-\")","v":"-"},"喉痛",null,{"$f":"IF(入力フォーマット!$I$15,\"✓\",\"-\")","v":"-"},"喉痛",null,{"$f":"IF(入力フォーマット!$I$17,\"✓\",\"-\")","v":"-"},"喉痛",null,{"$f":"IF(入力フォーマット!$I$19,\"✓\",\"-\")","v":"-"},"喉痛",null,{"$f":"IF(入力フォーマット!$I$21,\"✓\",\"-\")","v":"-"},"喉痛",null,{"$f":"IF(入力フォーマット!$I$23,\"✓\",\"-\")","v":"-"},"喉痛",null,{"$f":"IF(入力フォーマット!$I$25,\"✓\",\"-\")","v":"-"},"喉痛",null,{"$f":"IF(入力フォーマット!$I$27,\"✓\",\"-\")","v":"-"},"喉痛",null,{"$f":"IF(入力フォーマット!$I$29,\"✓\",\"-\")","v":"-"},"喉痛",null,{"$f":"IF(入力フォーマット!$I$31,\"✓\",\"-\")","v":"-"},"喉痛",null,{"$f":"IF(入力フォーマット!$I$33,\"✓\",\"-\")","v":"-"},"喉痛",null,{"$f":"IF(入力フォーマット!$I$35,\"✓\",\"-\")","v":"-"},"喉痛"]
[null,null,{"$f":"IF(入力フォーマット!$K$9,\"✓\",\"-\")","v":"-"},"倦怠感",null,{"$f":"IF(入力フォーマット!$K$11,\"✓\",\"-\")","v":"-"},"倦怠感",null,{"$f":"IF(入力フォーマット!$K$13,\"✓\",\"-\")","v":"-"},"倦怠感",null,{"$f":"IF(入力フォーマット!$K$15,\"✓\",\"-\")","v":"-"},"倦怠感",null,{"$f":"IF(入力フォーマット!$K$17,\"✓\",\"-\")","v":"-"},"倦怠感",null,{"$f":"IF(入力フォーマット!$K$19,\"✓\",\"-\")","v":"-"},"倦怠感",null,{"$f":"IF(入力フォーマット!$K$21,\"✓\",\"-\")","v":"-"},"倦怠感",null,{"$f":"IF(入力フォーマット!$K$23,\"✓\",\"-\")","v":"-"},"倦怠感",null,{"$f":"IF(入力フォーマット!$K$25,\"✓\",\"-\")","v":"-"},"倦怠感",null,{"$f":"IF(入力フォーマット!$K$27,\"✓\",\"-\")","v":"-"},"倦怠感",null,{"$f":"IF(入力フォーマット!$K$28,\"✓\",\"-\")","v":"-"},"倦怠感",null,{"$f":"IF(入力フォーマット!$K$31,\"✓\",\"-\")","v":"-"},"倦怠感",null,{"$f":"IF(入力フォーマット!$K$33,\"✓\",\"-\")","v":"-"},"倦怠感",null,{"$f":"IF(入力フォーマット!$K$35,\"✓\",\"-\")","v":"-"},"倦怠感"]
[null,null,{"$f":"IF(入力フォーマット!$M$9,\"✓\",\"-\")","v":"-"},"味覚障害",null,{"$f":"IF(入力フォーマット!$M$11,\"✓\",\"-\")","v":"-"},"味覚障害",null,{"$f":"IF(入力フォーマット!$M$13,\"✓\",\"-\")","v":"-"},"味覚障害",null,{"$f":"IF(入力フォーマット!$M$15,\"✓\",\"-\")","v":"-"},"味覚障害",null,{"$f":"IF(入力フォーマット!$M$17,\"✓\",\"-\")","v":"-"},"味覚障害",null,{"$f":"IF(入力フォーマット!$M$19,\"✓\",\"-\")","v":"-"},"味覚障害",null,{"$f":"IF(入力フォーマット!$M$21,\"✓\",\"-\")","v":"-"},"味覚障害",null,{"$f":"IF(入力フォーマット!$M$23,\"✓\",\"-\")","v":"-"},"味覚障害",null,{"$f":"IF(入力フォーマット!$M$25,\"✓\",\"-\")","v":"-"},"味覚障害",null,{"$f":"IF(入力フォーマット!$M$27,\"✓\",\"-\")","v":"-"},"味覚障害",null,{"$f":"IF(入力フォーマット!$M$29,\"✓\",\"-\")","v":"-"},"味覚障害",null,{"$f":"IF(入力フォーマット!$M$31,\"✓\",\"-\")","v":"-"},"味覚障害",null,{"$f":"IF(入力フォーマット!$M$33,\"✓\",\"-\")","v":"-"},"味覚障害",null,{"$f":"IF(入力フォーマット!$M$35,\"✓\",\"-\")","v":"-"},"味覚障害"]
[null,null,{"$f":"IF(入力フォーマット!$G$10,\"✓\",\"-\")","v":"-"},"下痢",null,{"$f":"IF(入力フォーマット!$G$12,\"✓\",\"-\")","v":"-"},"下痢",null,{"$f":"IF(入力フォーマット!$G$14,\"✓\",\"-\")","v":"-"},"下痢",null,{"$f":"IF(入力フォーマット!$G$16,\"✓\",\"-\")","v":"-"},"下痢",null,{"$f":"IF(入力フォーマット!$G$18,\"✓\",\"-\")","v":"-"},"下痢",null,{"$f":"IF(入力フォーマット!$G$20,\"✓\",\"-\")","v":"-"},"下痢",null,{"$f":"IF(入力フォーマット!$G$22,\"✓\",\"-\")","v":"-"},"下痢",null,{"$f":"IF(入力フォーマット!$G$24,\"✓\",\"-\")","v":"-"},"下痢",null,{"$f":"IF(入力フォーマット!$G$26,\"✓\",\"-\")","v":"-"},"下痢",null,{"$f":"IF(入力フォーマット!$G$28,\"✓\",\"-\")","v":"-"},"下痢",null,{"$f":"IF(入力フォーマット!$G$30,\"✓\",\"-\")","v":"-"},"下痢",null,{"$f":"IF(入力フォーマット!$G$32,\"✓\",\"-\")","v":"-"},"下痢",null,{"$f":"IF(入力フォーマット!$G$34,\"✓\",\"-\")","v":"-"},"下痢",null,{"$f":"IF(入力フォーマット!$G$36,\"✓\",\"-\")","v":"-"},"下痢"]
[null,null,{"$f":"IF(入力フォーマット!$I$10,\"✓\",\"-\")","v":"-"},"嘔吐",null,{"$f":"IF(入力フォーマット!$I$12,\"✓\",\"-\")","v":"-"},"嘔吐",null,{"$f":"IF(入力フォーマット!$I$14,\"✓\",\"-\")","v":"-"},"嘔吐",null,{"$f":"IF(入力フォーマット!$I$16,\"✓\",\"-\")","v":"-"},"嘔吐",null,{"$f":"IF(入力フォーマット!$I$18,\"✓\",\"-\")","v":"-"},"嘔吐",null,{"$f":"IF(入力フォーマット!$I$20,\"✓\",\"-\")","v":"-"},"嘔吐",null,{"$f":"IF(入力フォーマット!$I$22,\"✓\",\"-\")","v":"-"},"嘔吐",null,{"$f":"IF(入力フォーマット!$I$24,\"✓\",\"-\")","v":"-"},"嘔吐",null,{"$f":"IF(入力フォーマット!$I$26,\"✓\",\"-\")","v":"-"},"嘔吐",null,{"$f":"IF(入力フォーマット!$I$28,\"✓\",\"-\")","v":"-"},"嘔吐",null,{"$f":"IF(入力フォーマット!$I$30,\"✓\",\"-\")","v":"-"},"嘔吐",null,{"$f":"IF(入力フォーマット!$I$32,\"✓\",\"-\")","v":"-"},"嘔吐",null,{"$f":"IF(入力フォーマット!$I$34,\"✓\",\"-\")","v":"-"},"嘔吐",null,{"$f":"IF(入力フォーマット!$I$36,\"✓\",\"-\")","v":"-"},"嘔吐"]
[null,null,{"$f":"IF(入力フォーマット!$K$10,\"✓\",\"-\")","v":"-"},"その他",null,{"$f":"IF(入力フォーマット!$K$12,\"✓\",\"-\")","v":"-"},"その他",null,{"$f":"IF(入力フォーマット!$K$14,\"✓\",\"-\")","v":"-"},"その他",null,{"$f":"IF(入力フォーマット!$K$16,\"✓\",\"-\")","v":"-"},"その他",null,{"$f":"IF(入力フォーマット!$K$18,\"✓\",\"-\")","v":"-"},"その他",null,{"$f":"IF(入力フォーマット!$K$20,\"✓\",\"-\")","v":"-"},"その他",null,{"$f":"IF(入力フォーマット!$K$22,\"✓\",\"-\")","v":"-"},"その他",null,{"$f":"IF(入力フォーマット!$K$24,\"✓\",\"-\")","v":"-"},"その他",null,{"$f":"IF(入力フォーマット!$K$26,\"✓\",\"-\")","v":"-"},"その他",null,{"$f":"IF(入力フォーマット!$K$28,\"✓\",\"-\")","v":"-"},"その他",null,{"$f":"IF(入力フォーマット!$K$30,\"✓\",\"-\")","v":"-"},"その他",null,{"$f":"IF(入力フォーマット!$K$32,\"✓\",\"-\")","v":"-"},"その他",null,{"$f":"IF(入力フォーマット!$K$34,\"✓\",\"-\")","v":"-"},"その他",null,{"$f":"IF(入力フォーマット!$K$36,\"✓\",\"-\")","v":"-"},"その他"]
[null,null,"（",{"$f":"IF(入力フォーマット!L10=\"\",\"-\",入力フォーマット!$L$10)","v":"aaaaaa"},"）","（",{"$f":"IF(入力フォーマット!$L$12=\"\",\"-\",入力フォーマット!$L$12)","v":"-"},"）","（",{"$f":"IF(入力フォーマット!$L$14=\"\",\"-\",入力フォーマット!$L$14)","v":"aaaaaa"},"）","（",{"$f":"IF(入力フォーマット!$L$16=\"\",\"-\",入力フォーマット!$L$16)","v":"-"},"）","（",{"$f":"IF(入力フォーマット!$L$18=\"\",\"-\",入力フォーマット!$L$18)","v":"aaaaaaaa"},"）","（",{"$f":"IF(入力フォーマット!$L$20=\"\",\"-\",入力フォーマット!$L$20)","v":"-"},"）","（",{"$f":"IF(入力フォーマット!$L$22=\"\",\"-\",入力フォーマット!$L$22)","v":"-"},"）","（",{"$f":"IF(入力フォーマット!$L$24=\"\",\"-\",入力フォーマット!$L$24)","v":"-"},"）","（",{"$f":"IF(入力フォーマット!$L$26=\"\",\"-\",入力フォーマット!$L$26)","v":"-"},"）","（",{"$f":"IF(入力フォーマット!$L$28=\"\",\"-\",入力フォーマット!$L$28)","v":"-"},"）","（",{"$f":"IF(入力フォーマット!$L$30=\"\",\"-\",入力フォーマット!$L$30)","v":"-"},"）","（",{"$f":"IF(入力フォーマット!$L$32=\"\",\"-\",入力フォーマット!$L$32)","v":"-"},"）","（",{"$f":"IF(入力フォーマット!$L$34=\"\",\"-\",入力フォーマット!$L$34)","v":"-"},"）","（",{"$f":"IF(入力フォーマット!$L$36=\"\",\"-\",入力フォーマット!$L$36)","v":"-"},"）"]

{"sheet":"グラフシート②","index":2,"n_rows":48,"n_cols":44,"rows_kept":48,"cut":false,"hidden":false,"merged":[[39,35,39,37],[39,38,39,40],[39,41,39,43],[39,17,39,19],[39,20,39,22],[39,23,39,25],[39,26,39,28],[39,29,39,31],[39,32,39,34],[38,29,38,31],[38,32,38,34],[38,35,38,37],[38,38,38,40],[38,41,38,43],[39,2,39,4],[39,5,39,7],[39,8,39,10],[39,11,39,13],[39,14,39,16],[36,41,37,43],[38,2,38,4],[38,5,38,7],[38,8,38,10],[38,11,38,13],[38,14,38,16],[38,17,38,19],[38,20,38,22],[38,23,38,25],[38,26,38,28],[36,23,37,25],[36,26,37,28],[36,29,37,31],[36,32,37,34],[36,35,37,37],[36,38,37,40],[1,23,1,26],[1,27,1,35],[1,42,1,43],[36,2,37,4],[36,5,37,7],[36,8,37,10],[36,11,37,13],[36,14,37,16],[36,17,37,19],[36,20,37,22],[1,2,1,3],[1,4,1,7],[1,8,1,9],[1,10,1,13],[1,14,1,15],[1,16,1,22]]}
[null,null,"健康状態確認シート"]
[null,null,"学籍番号",null,{"$f":"IF(入力フォーマット!B3=\"\",\"-\",入力フォーマット!B3)","v":"-"},null,null,null,"クラス番号",null,{"$f":"IF(入力フォーマット!B4=\"\",\"-\",入力フォーマット!B4)","v":"-"},null,null,null,"氏名",null,{"$f":"IF(入力フォーマット!B5=\"\",\"-\",入力フォーマット!B5)","v":"-"},null,null,null,null,null,null,"連絡先電話番号",null,null,null,{"$f":"IF(入力フォーマット!B6=\"\",\"-\",入力フォーマット!B6)","v":"-"},null,null,null,null,null,null,null,null,null,null,null,null,null,null,"NO.2"]
[]
[]
[]
[]
[]
[]
[]
[]
[]
[]
[]
[]
[]
[]
[]
[]
[]
[]
[]
[]
[]
[]
[]
[]
[]
[]
[]
[]
[]
[]
[]
[]
[]
[]
[null,null,"⑮",null,null,"⑯",null,null,"⑰",null,null,"⑱",null,null,"⑲",null,null,"⑳",null,null,"㉑",null,null,"㉒",null,null,"㉓",null,null,"㉔",null,null,"㉕",null,null,"㉖",null,null,"㉗",null,null,"㉘"]
[]
[null,null,{"$f":"IF(入力フォーマット!$B$37,入力フォーマット!$B$37,\"-\")","v":"-"},{"$f":"IF(入力フォーマット!L1=\"\",\"-\",入力フォーマット!$L$10)","v":"-"},{"$f":"IF(入力フォーマット!M1=\"\",\"-\",入力フォーマット!$L$10)","v":"-"},{"$f":"IF(入力フォーマット!$B$39,入力フォーマット!$B$39,\"-\")","v":"-"},{"$f":"IF(入力フォーマット!O1=\"\",\"-\",入力フォーマット!$L$10)","v":"-"},{"$f":"IF(入力フォーマット!P1=\"\",\"-\",入力フォーマット!$L$10)","v":"-"},{"$f":"IF(入力フォーマット!$B$41,入力フォーマット!$B$41,\"-\")","v":"-"},{"$f":"IF(入力フォーマット!R1=\"\",\"-\",入力フォーマット!$L$10)","v":"-"},{"$f":"IF(入力フォーマット!S1=\"\",\"-\",入力フォーマット!$L$10)","v":"-"},{"$f":"IF(入力フォーマット!$B$43,入力フォーマット!$B$43,\"-\")","v":"-"},{"$f":"IF(入力フォーマット!U1=\"\",\"-\",入力フォーマット!$L$10)","v":"-"},{"$f":"IF(入力フォーマット!V1=\"\",\"-\",入力フォーマット!$L$10)","v":"-"},{"$f":"IF(入力フォーマット!$B$45,入力フォーマット!$B$45,\"-\")","v":"-"},{"$f":"IF(入力フォーマット!X1=\"\",\"-\",入力フォーマット!$L$10)","v":"-"},{"$f":"IF(入力フォーマット!Y1=\"\",\"-\",入力フォーマット!$L$10)","v":"-"},{"$f":"IF(入力フォーマット!$B$47,入力フォーマット!$B$47,\"-\")","v":"-"},{"$f":"IF(入力フォーマット!AA1=\"\",\"-\",入力フォーマット!$L$10)","v":"-"},{"$f":"IF(入力フォーマット!AB1=\"\",\"-\",入力フォーマット!$L$10)","v":"-"},{"$f":"IF(入力フォーマット!$B$49,入力フォーマット!$B$49,\"-\")","v":"-"},{"$f":"IF(入力フォーマット!AD1=\"\",\"-\",入力フォーマット!$L$10)","v":"-"},{"$f":"IF(入力フォーマット!AE1=\"\",\"-\",入力フォーマット!$L$10)","v":"-"},{"$f":"IF(入力フォーマット!$B$51,入力フォーマット!$B$51,\"-\")","v":"-"},{"$f":"IF(入力フォーマット!AG1=\"\",\"-\",入力フォーマット!$L$10)","v":"-"},{"$f":"IF(入力フォーマット!AH1=\"\",\"-\",入力フォーマット!$L$10)","v":"-"},{"$f":"IF(入力フォーマット!$B$53,入力フォーマット!$B$53,\"-\")","v":"-"},{"$f":"IF(入力フォーマット!AJ1=\"\",\"-\",入力フォーマット!$L$10)","v":"-"},{"$f":"IF(入力フォーマット!AK1=\"\",\"-\",入力フォーマット!$L$10)","v":"-"},{"$f":"IF(入力フォーマット!$B$55,入力フォーマット!$B$55,\"-\")","v":"-"},{"$f":"IF(入力フォーマット!AM1=\"\",\"-\",入力フォーマット!$L$10)","v":"-"},{"$f":"IF(入力フォーマット!AN1=\"\",\"-\",入力フォーマット!$L$10)","v":"-"},{"$f":"IF(入力フォーマット!$B$57,入力フォーマット!$B$57,\"-\")","v":"-"},{"$f":"IF(入力フォーマット!AP1=\"\",\"-\",入力フォーマット!$L$10)","v":"-"},{"$f":"IF(入力フォーマット!AQ1=\"\",\"-\",入力フォーマット!$L$10)","v":"-"},{"$f":"IF(入力フォーマット!$B$59,入力フォーマット!$B$59,\"-\")","v":"-"},{"$f":"IF(入力フォーマット!AS1=\"\",\"-\",入力フォーマット!$L$10)","v":"-"},{"$f":"IF(入力フォーマット!AT1=\"\",\"-\",入力フォーマット!$L$10)","v":"-"},{"$f":"IF(入力フォーマット!$B$61,入力フォーマット!$B$61,\"-\")","v":"-"},{"$f":"IF(入力フォーマット!AV1=\"\",\"-\",入力フォーマット!$L$10)","v":"-"},{"$f":"IF(入力フォーマット!AW1=\"\",\"-\",入力フォーマット!$L$10)","v":"-"},{"$f":"IF(入力フォーマット!$B$63,入力フォーマット!$B$63,\"-\")","v":"-"},{"$f":"IF(入力フォーマット!AY1=\"\",\"-\",入力フォーマット!$L$10)","v":"-"},{"$f":"IF(入力フォーマット!AZ1=\"\",\"-\",入力フォーマット!$L$10)","v":"-"}]
[null,null,{"$f":"IF(COUNTIF(C$41:C$47,\"✓\")>=1,\"症状あり\",\"症状なし\")","v":"症状なし"},null,null,{"$f":"IF(COUNTIF(F$41:F$47,\"✓\")>=1,\"症状あり\",\"症状なし\")","v":"症状なし"},null,null,{"$f":"IF(COUNTIF(I$41:I$47,\"✓\")>=1,\"症状あり\",\"症状なし\")","v":"症状なし"},null,null,{"$f":"IF(COUNTIF(L$41:L$47,\"✓\")>=1,\"症状あり\",\"症状なし\")","v":"症状なし"},null,null,{"$f":"IF(COUNTIF(O$41:O$47,\"✓\")>=1,\"症状あり\",\"症状なし\")","v":"症状なし"},null,null,{"$f":"IF(COUNTIF(R$41:R$47,\"✓\")>=1,\"症状あり\",\"症状なし\")","v":"症状なし"},null,null,{"$f":"IF(COUNTIF(U$41:U$47,\"✓\")>=1,\"症状あり\",\"症状なし\")","v":"症状なし"},null,null,{"$f":"IF(COUNTIF(X$41:X$47,\"✓\")>=1,\"症状あり\",\"症状なし\")","v":"症状なし"},null,null,{"$f":"IF(COUNTIF(AA$41:AA$47,\"✓\")>=1,\"症状あり\",\"症状なし\")","v":"症状なし"},null,null,{"$f":"IF(COUNTIF(AD$41:AD$47,\"✓\")>=1,\"症状あり\",\"症状なし\")","v":"症状なし"},null,null,{"$f":"IF(COUNTIF(AG$41:AG$47,\"✓\")>=1,\"症状あり\",\"症状なし\")","v":"症状なし"},null,null,{"$f":"IF(COUNTIF(AJ$41:AJ$47,\"✓\")>=1,\"症状あり\",\"症状なし\")","v":"症状なし"},null,null,{"$f":"IF(COUNTIF(AM$41:AM$47,\"✓\")>=1,\"症状あり\",\"症状なし\")","v":"症状なし"},null,null,{"$f":"IF(COUNTIF(AP$41:AP$47,\"✓\")>=1,\"症状あり\",\"症状なし\")","v":"症状なし"}]
[null,null,{"$f":"IF(入力フォーマット!$G$37,\"✓\",\"-\")","v":"-"},"咳",null,{"$f":"IF(入力フォーマット!$G$39,\"✓\",\"-\")","v":"-"},"咳",null,{"$f":"IF(入力フォーマット!$G$41,\"✓\",\"-\")","v":"-"},"咳",null,{"$f":"IF(入力フォーマット!$G$43,\"✓\",\"-\")","v":"-"},"咳",null,{"$f":"IF(入力フォーマット!$G$45,\"✓\",\"-\")","v":"-"},"咳",null,{"$f":"IF(入力フォーマット!$G$47,\"✓\",\"-\")","v":"-"},"咳",null,{"$f":"IF(入力フォーマット!$G$49,\"✓\",\"-\")","v":"-"},"咳",null,{"$f":"IF(入力フォーマット!$G$51,\"✓\",\"-\")","v":"-"},"咳",null,{"$f":"IF(入力フォーマット!$G$53,\"✓\",\"-\")","v":"-"},"咳",null,{"$f":"IF(入力フォーマット!$G$55,\"✓\",\"-\")","v":"-"},"咳",null,{"$f":"IF(入力フォーマット!$G$57,\"✓\",\"-\")","v":"-"},"咳",null,{"$f":"IF(入力フォーマット!$G$59,\"✓\",\"-\")","v":"-"},"咳",null,{"$f":"IF(入力フォーマット!$G$61,\"✓\",\"-\")","v":"-"},"咳",null,{"$f":"IF(入力フォーマット!$G$63,\"✓\",\"-\")","v":"-"},"咳"]
[null,null,{"$f":"IF(入力フォーマット!$I$37,\"✓\",\"-\")","v":"-"},"喉痛",null,{"$f":"IF(入力フォーマット!$I$39,\"✓\",\"-\")","v":"-"},"喉痛",null,{"$f":"IF(入力フォーマット!$I$41,\"✓\",\"-\")","v":"-"},"喉痛",null,{"$f":"IF(入力フォーマット!$I$43,\"✓\",\"-\")","v":"-"},"喉痛",null,{"$f":"IF(入力フォーマット!$I$45,\"✓\",\"-\")","v":"-"},"喉痛",null,{"$f":"IF(入力フォーマット!$I$47,\"✓\",\"-\")","v":"-"},"喉痛",null,{"$f":"IF(入力フォーマット!$I$49,\"✓\",\"-\")","v":"-"},"喉痛",null,{"$f":"IF(入力フォーマット!$I$51,\"✓\",\"-\")","v":"-"},"喉痛",null,{"$f":"IF(入力フォーマット!$I$53,\"✓\",\"-\")","v":"-"},"喉痛",null,{"$f":"IF(入力フォーマット!$I$55,\"✓\",\"-\")","v":"-"},"喉痛",null,{"$f":"IF(入力フォーマット!$I$57,\"✓\",\"-\")","v":"-"},"喉痛",null,{"$f":"IF(入力フォーマット!$I$59,\"✓\",\"-\")","v":"-"},"喉痛",null,{"$f":"IF(入力フォーマット!$I$61,\"✓\",\"-\")","v":"-"},"喉痛",null,{"$f":"IF(入力フォーマット!$I$63,\"✓\",\"-\")","v":"-"},"喉痛"]
[null,null,{"$f":"IF(入力フォーマット!$K$37,\"✓\",\"-\")","v":"-"},"倦怠感",null,{"$f":"IF(入力フォーマット!$K$39,\"✓\",\"-\")","v":"-"},"倦怠感",null,{"$f":"IF(入力フォーマット!$K$41,\"✓\",\"-\")","v":"-"},"倦怠感",null,{"$f":"IF(入力フォーマット!$K$43,\"✓\",\"-\")","v":"-"},"倦怠感",null,{"$f":"IF(入力フォーマット!$K$45,\"✓\",\"-\")","v":"-"},"倦怠感",null,{"$f":"IF(入力フォーマット!$K$47,\"✓\",\"-\")","v":"-"},"倦怠感",null,{"$f":"IF(入力フォーマット!$K$49,\"✓\",\"-\")","v":"-"},"倦怠感",null,{"$f":"IF(入力フォーマット!$K$51,\"✓\",\"-\")","v":"-"},"倦怠感",null,{"$f":"IF(入力フォーマット!$K$53,\"✓\",\"-\")","v":"-"},"倦怠感",null,{"$f":"IF(入力フォーマット!$K$55,\"✓\",\"-\")","v":"-"},"倦怠感",null,{"$f":"IF(入力フォーマット!$K$57,\"✓\",\"-\")","v":"-"},"倦怠感",null,{"$f":"IF(入力フォーマット!$K$59,\"✓\",\"-\")","v":"-"},"倦怠感",null,{"$f":"IF(入力フォーマット!$K$61,\"✓\",\"-\")","v":"-"},"倦怠感",null,{"$f":"IF(入力フォーマット!$K$63,\"✓\",\"-\")","v":"-"},"倦怠感"]
[null,null,{"$f":"IF(入力フォーマット!$M$37,\"✓\",\"-\")","v":"-"},"味覚障害",null,{"$f":"IF(入力フォーマット!$M$39,\"✓\",\"-\")","v":"-"},"味覚障害",null,{"$f":"IF(入力フォーマット!$M$41,\"✓\",\"-\")","v":"-"},"味覚障害",null,{"$f":"IF(入力フォーマット!$M$43,\"✓\",\"-\")","v":"-"},"味覚障害",null,{"$f":"IF(入力フォーマット!$M$45,\"✓\",\"-\")","v":"-"},"味覚障害",null,{"$f":"IF(入力フォーマット!$M$47,\"✓\",\"-\")","v":"-"},"味覚障害",null,{"$f":"IF(入力フォーマット!$M$49,\"✓\",\"-\")","v":"-"},"味覚障害",null,{"$f":"IF(入力フォーマット!$M$51,\"✓\",\"-\")","v":"-"},"味覚障害",null,{"$f":"IF(入力フォーマット!$M$53,\"✓\",\"-\")","v":"-"},"味覚障害",null,{"$f":"IF(入力フォーマット!$M$55,\"✓\",\"-\")","v":"-"},"味覚障害",null,{"$f":"IF(入力フォーマット!$M$57,\"✓\",\"-\")","v":"-"},"味覚障害",null,{"$f":"IF(入力フォーマット!$M$59,\"✓\",\"-\")","v":"-"},"味覚障害",null,{"$f":"IF(入力フォーマット!$M$61,\"✓\",\"-\")","v":"-"},"味覚障害",null,{"$f":"IF(入力フォーマット!$M$63,\"✓\",\"-\")","v":"-"},"味覚障害"]
[null,null,{"$f":"IF(入力フォーマット!$G$38,\"✓\",\"-\")","v":"-"},"下痢",null,{"$f":"IF(入力フォーマット!$G$40,\"✓\",\"-\")","v":"-"},"下痢",null,{"$f":"IF(入力フォーマット!$G$42,\"✓\",\"-\")","v":"-"},"下痢",null,{"$f":"IF(入力フォーマット!$G$44,\"✓\",\"-\")","v":"-"},"下痢",null,{"$f":"IF(入力フォーマット!$G$46,\"✓\",\"-\")","v":"-"},"下痢",null,{"$f":"IF(入力フォーマット!$G$48,\"✓\",\"-\")","v":"-"},"下痢",null,{"$f":"IF(入力フォーマット!$G$50,\"✓\",\"-\")","v":"-"},"下痢",null,{"$f":"IF(入力フォーマット!$G$52,\"✓\",\"-\")","v":"-"},"下痢",null,{"$f":"IF(入力フォーマット!$G$54,\"✓\",\"-\")","v":"-"},"下痢",null,{"$f":"IF(入力フォーマット!$G$56,\"✓\",\"-\")","v":"-"},"下痢",null,{"$f":"IF(入力フォーマット!$G$58,\"✓\",\"-\")","v":"-"},"下痢",null,{"$f":"IF(入力フォーマット!$G$60,\"✓\",\"-\")","v":"-"},"下痢",null,{"$f":"IF(入力フォーマット!$G$62,\"✓\",\"-\")","v":"-"},"下痢",null,{"$f":"IF(入力フォーマット!$G$65,\"✓\",\"-\")","v":"-"},"下痢"]
[null,null,{"$f":"IF(入力フォーマット!$I$38,\"✓\",\"-\")","v":"-"},"嘔吐",null,{"$f":"IF(入力フォーマット!$I$40,\"✓\",\"-\")","v":"-"},"嘔吐",null,{"$f":"IF(入力フォーマット!$I$42,\"✓\",\"-\")","v":"-"},"嘔吐",null,{"$f":"IF(入力フォーマット!$I$44,\"✓\",\"-\")","v":"-"},"嘔吐",null,{"$f":"IF(入力フォーマット!$I$46,\"✓\",\"-\")","v":"-"},"嘔吐",null,{"$f":"IF(入力フォーマット!$I$48,\"✓\",\"-\")","v":"-"},"嘔吐",null,{"$f":"IF(入力フォーマット!$I$50,\"✓\",\"-\")","v":"-"},"嘔吐",null,{"$f":"IF(入力フォーマット!$I$52,\"✓\",\"-\")","v":"-"},"嘔吐",null,{"$f":"IF(入力フォーマット!$I$54,\"✓\",\"-\")","v":"-"},"嘔吐",null,{"$f":"IF(入力フォーマット!$I$56,\"✓\",\"-\")","v":"-"},"嘔吐",null,{"$f":"IF(入力フォーマット!$I$58,\"✓\",\"-\")","v":"-"},"嘔吐",null,{"$f":"IF(入力フォーマット!$I$60,\"✓\",\"-\")","v":"-"},"嘔吐",null,{"$f":"IF(入力フォーマット!$I$62,\"✓\",\"-\")","v":"-"},"嘔吐",null,{"$f":"IF(入力フォーマット!$I$65,\"✓\",\"-\")","v":"-"},"嘔吐"]
[null,null,{"$f":"IF(入力フォーマット!$K$38,\"✓\",\"-\")","v":"-"},"その他",null,{"$f":"IF(入力フォーマット!$K$40,\"✓\",\"-\")","v":"-"},"その他",null,{"$f":"IF(入力フォーマット!$K$42,\"✓\",\"-\")","v":"-"},"その他",null,{"$f":"IF(入力フォーマット!$K$44,\"✓\",\"-\")","v":"-"},"その他",null,{"$f":"IF(入力フォーマット!$K$46,\"✓\",\"-\")","v":"-"},"その他",null,{"$f":"IF(入力フォーマット!$K$48,\"✓\",\"-\")","v":"-"},"その他",null,{"$f":"IF(入力フォーマット!$K$50,\"✓\",\"-\")","v":"-"},"その他",null,{"$f":"IF(入力フォーマット!$K$52,\"✓\",\"-\")","v":"-"},"その他",null,{"$f":"IF(入力フォーマット!$K$54,\"✓\",\"-\")","v":"-"},"その他",null,{"$f":"IF(入力フォーマット!$K$56,\"✓\",\"-\")","v":"-"},"その他",null,{"$f":"IF(入力フォーマット!$K$58,\"✓\",\"-\")","v":"-"},"その他",null,{"$f":"IF(入力フォーマット!$K$60,\"✓\",\"-\")","v":"-"},"その他",null,{"$f":"IF(入力フォーマット!$K$62,\"✓\",\"-\")","v":"-"},"その他",null,{"$f":"IF(入力フォーマット!$K$65,\"✓\",\"-\")","v":"-"},"その他"]
[null,null,"（",{"$f":"IF(入力フォーマット!$L$38=\"\",\"-\",入力フォーマット!$L$38)","v":"-"},"）","（",{"$f":"IF(入力フォーマット!$L$40=\"\",\"-\",入力フォーマット!$L$40)","v":"-"},"）","（",{"$f":"IF(入力フォーマット!$L$42=\"\",\"-\",入力フォーマット!$L$42)","v":"-"},"）","（",{"$f":"IF(入力フォーマット!$L$44=\"\",\"-\",入力フォーマット!$L$44)","v":"-"},"）","（",{"$f":"IF(入力フォーマット!$L$46=\"\",\"-\",入力フォーマット!$L$46)","v":"-"},"）","（",{"$f":"IF(入力フォーマット!$L$48=\"\",\"-\",入力フォーマット!$L$48)","v":"-"},"）","（",{"$f":"IF(入力フォーマット!$L$50=\"\",\"-\",入力フォーマット!$L$50)","v":"-"},"）","（",{"$f":"IF(入力フォーマット!$L$52=\"\",\"-\",入力フォーマット!$L$52)","v":"-"},"）","（",{"$f":"IF(入力フォーマット!$L$54=\"\",\"-\",入力フォーマット!$L$54)","v":"-"},"）","（",{"$f":"IF(入力フォーマット!$L$56=\"\",\"-\",入力フォーマット!$L$56)","v":"-"},"）","（",{"$f":"IF(入力フォーマット!$L$58=\"\",\"-\",入力フォーマット!$L$58)","v":"-"},"）","（",{"$f":"IF(入力フォーマット!$L$60=\"\",\"-\",入力フォーマット!$L$60)","v":"-"},"）","（",{"$f":"IF(入力フォーマット!$L$62=\"\",\"-\",入力フォーマット!$L$62)","v":"-"},"）","（",{"$f":"IF(入力フォーマット!$L$65=\"\",\"-\",入力フォーマット!$L$65)","v":"-"},"）"]

{"sheet":"グラフシート③","index":3,"n_rows":48,"n_cols":44,"rows_kept":48,"cut":false,"hidden":false,"merged":[[39,35,39,37],[39,38,39,40],[39,41,39,43],[39,17,39,19],[39,20,39,22],[39,23,39,25],[39,26,39,28],[39,29,39,31],[39,32,39,34],[38,29,38,31],[38,32,38,34],[38,35,38,37],[38,38,38,40],[38,41,38,43],[39,2,39,4],[39,5,39,7],[39,8,39,10],[39,11,39,13],[39,14,39,16],[36,41,37,43],[38,2,38,4],[38,5,38,7],[38,8,38,10],[38,11,38,13],[38,14,38,16],[38,17,38,19],[38,20,38,22],[38,23,38,25],[38,26,38,28],[36,23,37,25],[36,26,37,28],[36,29,37,31],[36,32,37,34],[36,35,37,37],[36,38,37,40],[1,23,1,26],[1,27,1,35],[1,42,1,43],[36,2,37,4],[36,5,37,7],[36,8,37,10],[36,11,37,13],[36,14,37,16],[36,17,37,19],[36,20,37,22],[1,2,1,3],[1,4,1,7],[1,8,1,9],[1,10,1,13],[1,14,1,15],[1,16,1,22]]}
[null,null,"健康状態確認シート"]
[null,null,"学籍番号",null,{"$f":"IF(入力フォーマット!B3=\"\",\"-\",入力フォーマット!B3)","v":"-"},null,null,null,"クラス番号",null,{"$f":"IF(入力フォーマット!B4=\"\",\"-\",入力フォーマット!B4)","v":"-"},null,null,null,"氏名",null,{"$f":"IF(入力フォーマット!B5=\"\",\"-\",入力フォーマット!B5)","v":"-"},null,null,null,null,null,null,"連絡先電話番号",null,null,null,{"$f":"IF(入力フォーマット!B6=\"\",\"-\",入力フォーマット!B6)","v":"-"},null,null,null,null,null,null,null,null,null,null,null,null,null,null,"NO.3"]
[]
[]
[]
[]
[]
[]
[]
[]
[]
[]
[]
[]
[]
[]
[]
[]
[]
[]
[]
[]
[]
[]
[]
[]
[]
[]
[]
[]
[]
[]
[]
[]
[]
[]
[null,null,"㉙",null,null,"㉚",null,null,"㉛",null,null,"㉜",null,null,"㉝",null,null,"　㉞",null,null,"㉟",null,null,"㊱",null,null,"㊲",null,null,"㊳",null,null,"㊴",null,null,"㊵",null,null,"㊶",null,null,"㊷"]
[]
[null,null,{"$f":"IF(入力フォーマット!$B$65,入力フォーマット!$B$65,\"-\")","v":"-"},{"$f":"IF(入力フォーマット!L1=\"\",\"-\",入力フォーマット!$L$10)","v":"-"},{"$f":"IF(入力フォーマット!M1=\"\",\"-\",入力フォーマット!$L$10)","v":"-"},{"$f":"IF(入力フォーマット!$B$67,入力フォーマット!$B$67,\"-\")","v":"-"},{"$f":"IF(入力フォーマット!O1=\"\",\"-\",入力フォーマット!$L$10)","v":"-"},{"$f":"IF(入力フォーマット!P1=\"\",\"-\",入力フォーマット!$L$10)","v":"-"},{"$f":"IF(入力フォーマット!$B$69,入力フォーマット!$B$69,\"-\")","v":"-"},{"$f":"IF(入力フォーマット!R1=\"\",\"-\",入力フォーマット!$L$10)","v":"-"},{"$f":"IF(入力フォーマット!S1=\"\",\"-\",入力フォーマット!$L$10)","v":"-"},{"$f":"IF(入力フォーマット!$B$71,入力フォーマット!$B$71,\"-\")","v":"-"},{"$f":"IF(入力フォーマット!U1=\"\",\"-\",入力フォーマット!$L$10)","v":"-"},{"$f":"IF(入力フォーマット!V1=\"\",\"-\",入力フォーマット!$L$10)","v":"-"},{"$f":"IF(入力フォーマット!$B$73,入力フォーマット!$B$73,\"-\")","v":"-"},{"$f":"IF(入力フォーマット!X1=\"\",\"-\",入力フォーマット!$L$10)","v":"-"},{"$f":"IF(入力フォーマット!Y1=\"\",\"-\",入力フォーマット!$L$10)","v":"-"},{"$f":"IF(入力フォーマット!$B$75,入力フォーマット!$B$75,\"-\")","v":"-"},{"$f":"IF(入力フォーマット!AA1=\"\",\"-\",入力フォーマット!$L$10)","v":"-"},{"$f":"IF(入力フォーマット!AB1=\"\",\"-\",入力フォーマット!$L$10)","v":"-"},{"$f":"IF(入力フォーマット!$B$77,入力フォーマット!$B$77,\"-\")","v":"-"},{"$f":"IF(入力フォーマット!AD1=\"\",\"-\",入力フォーマット!$L$10)","v":"-"},{"$f":"IF(入力フォーマット!AE1=\"\",\"-\",入力フォーマット!$L$10)","v":"-"},{"$f":"IF(入力フォーマット!$B$79,入力フォーマット!$B$79,\"-\")","v":"-"},{"$f":"IF(入力フォーマット!AG1=\"\",\"-\",入力フォーマット!$L$10)","v":"-"},{"$f":"IF(入力フォーマット!AH1=\"\",\"-\",入力フォーマット!$L$10)","v":"-"},{"$f":"IF(入力フォーマット!$B$81,入力フォーマット!$B$81,\"-\")","v":"-"},{"$f":"IF(入力フォーマット!AJ1=\"\",\"-\",入力フォーマット!$L$10)","v":"-"},{"$f":"IF(入力フォーマット!AK1=\"\",\"-\",入力フォーマット!$L$10)","v":"-"},{"$f":"IF(入力フォーマット!$B$83,入力フォーマット!$B$83,\"-\")","v":"-"},{"$f":"IF(入力フォーマット!AM1=\"\",\"-\",入力フォーマット!$L$10)","v":"-"},{"$f":"IF(入力フォーマット!AN1=\"\",\"-\",入力フォーマット!$L$10)","v":"-"},{"$f":"IF(入力フォーマット!$B$85,入力フォーマット!$B$85,\"-\")","v":"-"},{"$f":"IF(入力フォーマット!AP1=\"\",\"-\",入力フォーマット!$L$10)","v":"-"},{"$f":"IF(入力フォーマット!AQ1=\"\",\"-\",入力フォーマット!$L$10)","v":"-"},{"$f":"IF(入力フォーマット!$B$87,入力フォーマット!$B$87,\"-\")","v":"-"},{"$f":"IF(入力フォーマット!AS1=\"\",\"-\",入力フォーマット!$L$10)","v":"-"},{"$f":"IF(入力フォーマット!AT1=\"\",\"-\",入力フォーマット!$L$10)","v":"-"},{"$f":"IF(入力フォーマット!$B$89,入力フォーマット!$B$89,\"-\")","v":"-"},{"$f":"IF(入力フォーマット!AV1=\"\",\"-\",入力フォーマット!$L$10)","v":"-"},{"$f":"IF(入力フォーマット!AW1=\"\",\"-\",入力フォーマット!$L$10)","v":"-"},{"$f":"IF(入力フォーマット!$B$91,入力フォーマット!$B$91,\"-\")","v":"-"},{"$f":"IF(入力フォーマット!AY1=\"\",\"-\",入力フォーマット!$L$10)","v":"-"},{"$f":"IF(入力フォーマット!AZ1=\"\",\"-\",入力フォーマット!$L$10)","v":"-"}]
[null,null,{"$f":"IF(COUNTIF(C$41:C$47,\"✓\")>=1,\"症状あり\",\"症状なし\")","v":"症状なし"},null,null,{"$f":"IF(COUNTIF(F$41:F$47,\"✓\")>=1,\"症状あり\",\"症状なし\")","v":"症状なし"},null,null,{"$f":"IF(COUNTIF(I$41:I$47,\"✓\")>=1,\"症状あり\",\"症状なし\")","v":"症状なし"},null,null,{"$f":"IF(COUNTIF(L$41:L$47,\"✓\")>=1,\"症状あり\",\"症状なし\")","v":"症状なし"},null,null,{"$f":"IF(COUNTIF(O$41:O$47,\"✓\")>=1,\"症状あり\",\"症状なし\")","v":"症状なし"},null,null,{"$f":"IF(COUNTIF(R$41:R$47,\"✓\")>=1,\"症状あり\",\"症状なし\")","v":"症状なし"},null,null,{"$f":"IF(COUNTIF(U$41:U$47,\"✓\")>=1,\"症状あり\",\"症状なし\")","v":"症状なし"},null,null,{"$f":"IF(COUNTIF(X$41:X$47,\"✓\")>=1,\"症状あり\",\"症状なし\")","v":"症状なし"},null,null,{"$f":"IF(COUNTIF(AA$41:AA$47,\"✓\")>=1,\"症状あり\",\"症状なし\")","v":"症状なし"},null,null,{"$f":"IF(COUNTIF(AD$41:AD$47,\"✓\")>=1,\"症状あり\",\"症状なし\")","v":"症状なし"},null,null,{"$f":"IF(COUNTIF(AG$41:AG$47,\"✓\")>=1,\"症状あり\",\"症状なし\")","v":"症状なし"},null,null,{"$f":"IF(COUNTIF(AJ$41:AJ$47,\"✓\")>=1,\"症状あり\",\"症状なし\")","v":"症状なし"},null,null,{"$f":"IF(COUNTIF(AM$41:AM$47,\"✓\")>=1,\"症状あり\",\"症状なし\")","v":"症状なし"},null,null,{"$f":"IF(COUNTIF(AP$41:AP$47,\"✓\")>=1,\"症状あり\",\"症状なし\")","v":"症状なし"}]
[null,null,{"$f":"IF(入力フォーマット!$G$65,\"✓\",\"-\")","v":"-"},"咳",null,{"$f":"IF(入力フォーマット!$G$67,\"✓\",\"-\")","v":"-"},"咳",null,{"$f":"IF(入力フォーマット!$G$69,\"✓\",\"-\")","v":"-"},"咳",null,{"$f":"IF(入力フォーマット!$G$71,\"✓\",\"-\")","v":"-"},"咳",null,{"$f":"IF(入力フォーマット!$G$73,\"✓\",\"-\")","v":"-"},"咳",null,{"$f":"IF(入力フォーマット!$G$75,\"✓\",\"-\")","v":"-"},"咳",null,{"$f":"IF(入力フォーマット!$G$77,\"✓\",\"-\")","v":"-"},"咳",null,{"$f":"IF(入力フォーマット!$G$79,\"✓\",\"-\")","v":"-"},"咳",null,{"$f":"IF(入力フォーマット!$G$81,\"✓\",\"-\")","v":"-"},"咳",null,{"$f":"IF(入力フォーマット!$G$83,\"✓\",\"-\")","v":"-"},"咳",null,{"$f":"IF(入力フォーマット!$G$85,\"✓\",\"-\")","v":"-"},"咳",null,{"$f":"IF(入力フォーマット!$G$87,\"✓\",\"-\")","v":"-"},"咳",null,{"$f":"IF(入力フォーマット!$G$89,\"✓\",\"-\")","v":"-"},"咳",null,{"$f":"IF(入力フォーマット!$G$91,\"✓\",\"-\")","v":"-"},"咳"]
[null,null,{"$f":"IF(入力フォーマット!$I$65,\"✓\",\"-\")","v":"-"},"喉痛",null,{"$f":"IF(入力フォーマット!$I$67,\"✓\",\"-\")","v":"-"},"喉痛",null,{"$f":"IF(入力フォーマット!$I$69,\"✓\",\"-\")","v":"-"},"喉痛",null,{"$f":"IF(入力フォーマット!$I$71,\"✓\",\"-\")","v":"-"},"喉痛",null,{"$f":"IF(入力フォーマット!$I$73,\"✓\",\"-\")","v":"-"},"喉痛",null,{"$f":"IF(入力フォーマット!$I$75,\"✓\",\"-\")","v":"-"},"喉痛",null,{"$f":"IF(入力フォーマット!$I$77,\"✓\",\"-\")","v":"-"},"喉痛",null,{"$f":"IF(入力フォーマット!$I$79,\"✓\",\"-\")","v":"-"},"喉痛",null,{"$f":"IF(入力フォーマット!$I$81,\"✓\",\"-\")","v":"-"},"喉痛",null,{"$f":"IF(入力フォーマット!$I$83,\"✓\",\"-\")","v":"-"},"喉痛",null,{"$f":"IF(入力フォーマット!$I$85,\"✓\",\"-\")","v":"-"},"喉痛",null,{"$f":"IF(入力フォーマット!$I$87,\"✓\",\"-\")","v":"-"},"喉痛",null,{"$f":"IF(入力フォーマット!$I$89,\"✓\",\"-\")","v":"-"},"喉痛",null,{"$f":"IF(入力フォーマット!$I$63,\"✓\",\"-\")","v":"-"},"喉痛"]
[null,null,{"$f":"IF(入力フォーマット!$K$65,\"✓\",\"-\")","v":"-"},"倦怠感",null,{"$f":"IF(入力フォーマット!$K$67,\"✓\",\"-\")","v":"-"},"倦怠感",null,{"$f":"IF(入力フォーマット!$K$69,\"✓\",\"-\")","v":"-"},"倦怠感",null,{"$f":"IF(入力フォーマット!$K$71,\"✓\",\"-\")","v":"-"},"倦怠感",null,{"$f":"IF(入力フォーマット!$K$73,\"✓\",\"-\")","v":"-"},"倦怠感",null,{"$f":"IF(入力フォーマット!$K$75,\"✓\",\"-\")","v":"-"},"倦怠感",null,{"$f":"IF(入力フォーマット!$K$77,\"✓\",\"-\")","v":"-"},"倦怠感",null,{"$f":"IF(入力フォーマット!$K$79,\"✓\",\"-\")","v":"-"},"倦怠感",null,{"$f":"IF(入力フォーマット!$K$81,\"✓\",\"-\")","v":"-"},"倦怠感",null,{"$f":"IF(入力フォーマット!$K$83,\"✓\",\"-\")","v":"-"},"倦怠感",null,{"$f":"IF(入力フォーマット!$K$85,\"✓\",\"-\")","v":"-"},"倦怠感",null,{"$f":"IF(入力フォーマット!$K$87,\"✓\",\"-\")","v":"-"},"倦怠感",null,{"$f":"IF(入力フォーマット!$K$89,\"✓\",\"-\")","v":"-"},"倦怠感",null,{"$f":"IF(入力フォーマット!$K$91,\"✓\",\"-\")","v":"-"},"倦怠感"]
[null,null,{"$f":"IF(入力フォーマット!$M$65,\"✓\",\"-\")","v":"-"},"味覚障害",null,{"$f":"IF(入力フォーマット!$M$67,\"✓\",\"-\")","v":"-"},"味覚障害",null,{"$f":"IF(入力フォーマット!$M$69,\"✓\",\"-\")","v":"-"},"味覚障害",null,{"$f":"IF(入力フォーマット!$M$74,\"✓\",\"-\")","v":"-"},"味覚障害",null,{"$f":"IF(入力フォーマット!$M$73,\"✓\",\"-\")","v":"-"},"味覚障害",null,{"$f":"IF(入力フォーマット!$M$75,\"✓\",\"-\")","v":"-"},"味覚障害",null,{"$f":"IF(入力フォーマット!$M$77,\"✓\",\"-\")","v":"-"},"味覚障害",null,{"$f":"IF(入力フォーマット!$M$79,\"✓\",\"-\")","v":"-"},"味覚障害",null,{"$f":"IF(入力フォーマット!$M$81,\"✓\",\"-\")","v":"-"},"味覚障害",null,{"$f":"IF(入力フォーマット!$M$83,\"✓\",\"-\")","v":"-"},"味覚障害",null,{"$f":"IF(入力フォーマット!$M$85,\"✓\",\"-\")","v":"-"},"味覚障害",null,{"$f":"IF(入力フォーマット!$M$87,\"✓\",\"-\")","v":"-"},"味覚障害",null,{"$f":"IF(入力フォーマット!$M$89,\"✓\",\"-\")","v":"-"},"味覚障害",null,{"$f":"IF(入力フォーマット!$M$91,\"✓\",\"-\")","v":"-"},"味覚障害"]
[null,null,{"$f":"IF(入力フォーマット!$G$66,\"✓\",\"-\")","v":"-"},"下痢",null,{"$f":"IF(入力フォーマット!$G$68,\"✓\",\"-\")","v":"-"},"下痢",null,{"$f":"IF(入力フォーマット!$G$70,\"✓\",\"-\")","v":"-"},"下痢",null,{"$f":"IF(入力フォーマット!$G$72,\"✓\",\"-\")","v":"-"},"下痢",null,{"$f":"IF(入力フォーマット!$G$74,\"✓\",\"-\")","v":"-"},"下痢",null,{"$f":"IF(入力フォーマット!$G$76,\"✓\",\"-\")","v":"-"},"下痢",null,{"$f":"IF(入力フォーマット!$G$78,\"✓\",\"-\")","v":"-"},"下痢",null,{"$f":"IF(入力フォーマット!$G$80,\"✓\",\"-\")","v":"-"},"下痢",null,{"$f":"IF(入力フォーマット!$G$82,\"✓\",\"-\")","v":"-"},"下痢",null,{"$f":"IF(入力フォーマット!$G$84,\"✓\",\"-\")","v":"-"},"下痢",null,{"$f":"IF(入力フォーマット!$G$86,\"✓\",\"-\")","v":"-"},"下痢",null,{"$f":"IF(入力フォーマット!$G$88,\"✓\",\"-\")","v":"-"},"下痢",null,{"$f":"IF(入力フォーマット!$G$90,\"✓\",\"-\")","v":"-"},"下痢",null,{"$f":"IF(入力フォーマット!$G$92,\"✓\",\"-\")","v":"-"},"下痢"]
[null,null,{"$f":"IF(入力フォーマット!$I$66,\"✓\",\"-\")","v":"-"},"嘔吐",null,{"$f":"IF(入力フォーマット!$I$68,\"✓\",\"-\")","v":"-"},"嘔吐",null,{"$f":"IF(入力フォーマット!$I$70,\"✓\",\"-\")","v":"-"},"嘔吐",null,{"$f":"IF(入力フォーマット!$I$72,\"✓\",\"-\")","v":"-"},"嘔吐",null,{"$f":"IF(入力フォーマット!$I$74,\"✓\",\"-\")","v":"-"},"嘔吐",null,{"$f":"IF(入力フォーマット!$I$76,\"✓\",\"-\")","v":"-"},"嘔吐",null,{"$f":"IF(入力フォーマット!$I$78,\"✓\",\"-\")","v":"-"},"嘔吐",null,{"$f":"IF(入力フォーマット!$I$80,\"✓\",\"-\")","v":"-"},"嘔吐",null,{"$f":"IF(入力フォーマット!$I$82,\"✓\",\"-\")","v":"-"},"嘔吐",null,{"$f":"IF(入力フォーマット!$I$84,\"✓\",\"-\")","v":"-"},"嘔吐",null,{"$f":"IF(入力フォーマット!$I$86,\"✓\",\"-\")","v":"-"},"嘔吐",null,{"$f":"IF(入力フォーマット!$I$88,\"✓\",\"-\")","v":"-"},"嘔吐",null,{"$f":"IF(入力フォーマット!$I$90,\"✓\",\"-\")","v":"-"},"嘔吐",null,{"$f":"IF(入力フォーマット!$I$92,\"✓\",\"-\")","v":"-"},"嘔吐"]
[null,null,{"$f":"IF(入力フォーマット!$K$66,\"✓\",\"-\")","v":"-"},"その他",null,{"$f":"IF(入力フォーマット!$K$68,\"✓\",\"-\")","v":"-"},"その他",null,{"$f":"IF(入力フォーマット!$K$70,\"✓\",\"-\")","v":"-"},"その他",null,{"$f":"IF(入力フォーマット!$K$72,\"✓\",\"-\")","v":"-"},"その他",null,{"$f":"IF(入力フォーマット!$K$74,\"✓\",\"-\")","v":"-"},"その他",null,{"$f":"IF(入力フォーマット!$K$76,\"✓\",\"-\")","v":"-"},"その他",null,{"$f":"IF(入力フォーマット!$K$78,\"✓\",\"-\")","v":"-"},"その他",null,{"$f":"IF(入力フォーマット!$K$80,\"✓\",\"-\")","v":"-"},"その他",null,{"$f":"IF(入力フォーマット!$K$82,\"✓\",\"-\")","v":"-"},"その他",null,{"$f":"IF(入力フォーマット!$K$84,\"✓\",\"-\")","v":"-"},"その他",null,{"$f":"IF(入力フォーマット!$K$86,\"✓\",\"-\")","v":"-"},"その他",null,{"$f":"IF(入力フォーマット!$K$88,\"✓\",\"-\")","v":"-"},"その他",null,{"$f":"IF(入力フォーマット!$K$90,\"✓\",\"-\")","v":"-"},"その他",null,{"$f":"IF(入力フォーマット!$K$92,\"✓\",\"-\")","v":"-"},"その他"]
[null,null,"（",{"$f":"IF(入力フォーマット!$L$66=\"\",\"-\",入力フォーマット!$L$66)","v":"-"},"）","（",{"$f":"IF(入力フォーマット!$L$68=\"\",\"-\",入力フォーマット!$L$68)","v":"-"},"）","（",{"$f":"IF(入力フォーマット!$L$70=\"\",\"-\",入力フォーマット!$L$70)","v":"-"},"）","（",{"$f":"IF(入力フォーマット!$L$72=\"\",\"-\",入力フォーマット!$L$72)","v":"-"},"）","（",{"$f":"IF(入力フォーマット!$L$74=\"\",\"-\",入力フォーマット!$L$74)","v":"-"},"）","（",{"$f":"IF(入力フォーマット!$L$76=\"\",\"-\",入力フォーマット!$L$76)","v":"-"},"）","（",{"$f":"IF(入力フォーマット!$L$78=\"\",\"-\",入力フォーマット!$L$78)","v":"-"},"）","（",{"$f":"IF(入力フォーマット!$L$80=\"\",\"-\",入力フォーマット!$L$80)","v":"-"},"）","（",{"$f":"IF(入力フォーマット!$L$82=\"\",\"-\",入力フォーマット!$L$82)","v":"-"},"）","（",{"$f":"IF(入力フォーマット!$L$84=\"\",\"-\",入力フォーマット!$L$84)","v":"-"},"）","（",{"$f":"IF(入力フォーマット!$L$86=\"\",\"-\",入力フォーマット!$L$86)","v":"-"},"）","（",{"$f":"IF(入力フォーマット!$L$88=\"\",\"-\",入力フォーマット!$L$88)","v":"-"},"）","（",{"$f":"IF(入力フォーマット!$L$90=\"\",\"-\",入力フォーマット!$L$90)","v":"-"},"）","（",{"$f":"IF(入力フォーマット!$L$92=\"\",\"-\",入力フォーマット!$L$92)","v":"-"},"）"]